BEGIN:VCALENDAR
VERSION:2.0
PRODID:-//wp-events-plugin.com//6.6.4.4//EN
BEGIN:VEVENT
UID:13@constanze-mann.de
DTSTART;TZID=Europe/Berlin:20260831T090000
DTEND;TZID=Europe/Berlin:20261201T120000
DTSTAMP:20260330T142201Z
URL:https://constanze-mann.de/events/supervisionsgruppe-fuer-fuehrungskrae
 fte-bad-homburg/
SUMMARY:Führung mit Weitblick – Supervisionsgruppe für Führungskräfte
DESCRIPTION:„Ich würde mein Team gerne anders führen –aber zwischen A
 nforderungen\, Entscheidungen und Dynamiken bleibt dafür oft wenig Raum.
 “\nWenn Sie diesen Gedanken kennen\, sind Sie hier richtig.\nFührung is
 t heute komplexer denn je. Viele Führungskräfte tragen Verantwortung\, t
 reffen täglich Entscheidungen – und haben kaum Gelegenheit\, das eigene
  Handeln in Ruhe zu reflektieren.\nFührung mit Weitblick bietet Ihnen gen
 au diesen Raum: strukturiert\, vertraulich und auf Augenhöhe.\nSie müsse
 n nichts vorbereiten und nichts „mitbringen“.Es geht nicht um Bewertun
 g\, sondern um Einordnung und Entlastung.\n\nWas Führung mit Weitblick au
 smacht\n\n 	\nKlarere Entscheidungen – auch unter Druck\n\n 	\nMehr inne
 re Ruhe und Präsenz im Führungsalltag\n\n 	\nNeue Perspektiven\, die Tea
 mdynamiken entlasten\n\n 	\nDas Gefühl\, mit Verantwortung nicht allein z
 u sein\n\n\n\n„Die Gruppe bietet mir als Einrichtungsleitung die Möglic
 hkeit\, mich mit Kolleg:innen auszutauschen\, die auf derselben Ebene arbe
 iten.Der vertraute Rahmen eröffnet mir die Chance\, mich zu öffnen und n
 eue Energie mitzunehmen.“– Johanna R.\, Teilnehmerin\n\nFür wen geeig
 net?\nIdeal\, wenn Sie …\n\n\n 	\neine Einrichtung\, ein Team oder einen
  Bereich führen\n\n 	\nregelmäßigen Austausch auf Augenhöhe suchen\n\n
  	\nkonkrete Herausforderungen reflektieren und praxisnah lösen möchten\
 n\n 	\nIhre Führungsrolle mit mehr Gelassenheit und Weitblick gestalten w
 ollen\n\n\n&nbsp\;\nWas Sie erwartet\n\n 	\nKleine\, konstante Gruppe (max
 . 8 Teilnehmende)\n\n 	\nPraxisnahe Impulse\, die direkt im Führungsallta
 g wirken\n\n 	\nWertschätzender\, klarer Austausch – lösungsorientiert
  &amp\; entlastend\n\n 	\nLangfristige Wirkung – mehr Klarheit\, Struktu
 r und Handlungsstärke\n\n\n📩 Passt diese Supervisionsgruppe für mich?
 Schreiben Sie mir gern eine kurze Mail – ganz unverbindlich.\n\n\n\n\nDi
 e neuen Gruppen ab Ende August 2026\nGruppe 1 – Montag-Vormittag - Begin
 n: 31. August 2026\n📅Termine: 31.08. /28.09. /26.10. / 30.11. ⏰ 9:00
 –12:00 Uhr📍 Bad Homburg\, Neue Mauerstraße 7👥 max. 8 Führungskr
 äfte💶 320 € pro Person ( 4 Treffen à 3 Stunden)\n\nGruppe 2 – Mit
 twoch-Nachmittag - Beginn: 02. September 2026\n📅 Termine: 02.09. / 30.0
 9. / 28.10. /25.11. \n⏰ 13:30–16:30 Uhr📍 Bad Homburg\, Neue Mauerst
 raße 7👥 max. 8 Führungskräfte💶 320 € pro Person (4 Treffen à 3
  Stunden)\n\n\n\n\nAnmeldung &amp\; Kontakt\n📩 Ich möchte mich unverbi
 ndlich vormerken lassen  - Keine Verpflichtung. Sie erhalten Informatione
 n zu Terminen und können in Ruhe entscheiden.
ATTACH;FMTTYPE=image/jpeg:https://constanze-mann.de/wp-content/uploads/202
 4/05/Fuehrung-mit-Weitblickneu.png
CATEGORIES:Führungskräfte,Offene Supervision,Workshops für
 pädagogische Fachkräfte
END:VEVENT
BEGIN:VTIMEZONE
TZID:Europe/Berlin
X-LIC-LOCATION:Europe/Berlin
BEGIN:DAYLIGHT
DTSTART:20260329T030000
TZOFFSETFROM:+0100
TZOFFSETTO:+0200
TZNAME:CEST
END:DAYLIGHT
BEGIN:STANDARD
DTSTART:20261025T020000
TZOFFSETFROM:+0200
TZOFFSETTO:+0100
TZNAME:CET
END:STANDARD
END:VTIMEZONE
END:VCALENDAR