BEGIN:VCALENDAR
VERSION:2.0
PRODID:-//wp-events-plugin.com//6.6.4.4//EN
BEGIN:VEVENT
UID:21@constanze-mann.de
DTSTART;TZID=Europe/Berlin:20240718T000000
DTEND;TZID=Europe/Berlin:20261231T000000
DTSTAMP:20250326T120039Z
URL:https://constanze-mann.de/events/rahmenbedingungen-workshops-gruppen/
SUMMARY:Rahmenbedingungen Workshops & Gruppen
DESCRIPTION:🔎 Was meine Workshops &amp\; Supervisionsgruppen besonders m
 acht\nIndividuelle Begleitung. Praxisnahe Umsetzung. Persönliche Entwickl
 ung.\nOb Workshop oder Supervision – bei mir stehen die Teilnehmenden im
  Mittelpunkt.In kleinen Gruppen\, mit echtem Praxisbezug und einem geschü
 tzten Raum für Reflexion und Entwicklung.\n📍 Die hellen\, modernen Rä
 ume in Oberursel bieten die ideale Umgebung\, um zur Ruhe zu kommen\, neue
  Perspektiven zu entwickeln und die eigene Professionalität weiterzuentwi
 ckeln.\n\n\n\n\n🧩 Was Sie erwartet:\n👥 Kleine GruppenMaximal 12 Teil
 nehmer:innen – für echten Austausch\, persönliche Begleitung und indiv
 iduelle Rückmeldung.\n💡 Praxisnahe Übungen &amp\; MethodenTheorie gib
 t Orientierung – Praxis bringt Veränderung. Alle Inhalte sind auf den A
 lltag übertragbar.\n🧭 Individuelles Einzelcoaching inklusiveNach jedem
  Workshop erhalten Sie ein 60-minütiges Einzelcoaching\, um das Erlernte 
 gezielt im Alltag zu verankern.\n🏠 Geschützter RahmenEin vertrauensvol
 ler Raum\, um sich selbst\, das Team oder die eigene Führungsrolle zu ref
 lektieren.\n🚗 Moderne Räume &amp\; gute ErreichbarkeitZentrale Lage in
  Oberursel\, gut mit öffentlichen Verkehrsmitteln erreichbar – Parkplä
 tze vorhanden.\n🏢 Auch als Inhouse-Format buchbarAlle Formate sind flex
 ibel und können als Inhouse-Veranstaltung für Ihr Team oder Ihre Einrich
 tung angepasst werden.\n🌱 Nachhaltige EntwicklungDie Kombination aus Gr
 uppenarbeit &amp\; Einzelcoaching sorgt für langfristige Wirkung.\n\n\n\n
 📌 Neugierig auf meine Arbeitsweise?Weitere Infos zu meinen Qualifikatio
 nen finden Sie hier: 👉 https://constanze-mann.de/constanze-mann/ueber-m
 ich/
ATTACH;FMTTYPE=image/jpeg:https://constanze-mann.de/wp-content/uploads/202
 4/07/A_cozy_and_inviting_modern_room_with_text-1.png
END:VEVENT
BEGIN:VTIMEZONE
TZID:Europe/Berlin
X-LIC-LOCATION:Europe/Berlin
BEGIN:DAYLIGHT
DTSTART:20240331T030000
TZOFFSETFROM:+0100
TZOFFSETTO:+0200
TZNAME:CEST
END:DAYLIGHT
BEGIN:STANDARD
DTSTART:20241027T020000
TZOFFSETFROM:+0200
TZOFFSETTO:+0100
TZNAME:CET
END:STANDARD
BEGIN:DAYLIGHT
DTSTART:20250330T030000
TZOFFSETFROM:+0100
TZOFFSETTO:+0200
TZNAME:CEST
END:DAYLIGHT
BEGIN:STANDARD
DTSTART:20251026T020000
TZOFFSETFROM:+0200
TZOFFSETTO:+0100
TZNAME:CET
END:STANDARD
BEGIN:DAYLIGHT
DTSTART:20260329T030000
TZOFFSETFROM:+0100
TZOFFSETTO:+0200
TZNAME:CEST
END:DAYLIGHT
BEGIN:STANDARD
DTSTART:20261025T020000
TZOFFSETFROM:+0200
TZOFFSETTO:+0100
TZNAME:CET
END:STANDARD
END:VTIMEZONE
END:VCALENDAR