BEGIN:VCALENDAR
VERSION:2.0
PRODID:-//wp-events-plugin.com//6.6.4.4//EN
BEGIN:VEVENT
UID:25@constanze-mann.de
DTSTART;TZID=Europe/Berlin:20250127T000000
DTEND;TZID=Europe/Berlin:20270131T000000
DTSTAMP:20250326T115758Z
URL:https://constanze-mann.de/events/paedagogische-teamtage/
SUMMARY:Pädagogische Teamtage – Gemeinsam wachsen\, gemeinsam bewirken
DESCRIPTION:🧩 Teamtag mit Wirkung\n„Wie entfalten wir unser volles Pot
 enzial als Team?“\nIhr pädagogischer Teamtag – maßgeschneidert\, pra
 xisnah und stärkend.Für Teams\, die mehr wollen als einen Vortrag: Klarh
 eit\, neue Perspektiven und Lösungen\, die wirklich wirken.\nWas erwartet
  Sie?\n🔹 Individuelle Inhalte mit direktem Praxisbezug – kein Standar
 d\, sondern das\, was Ihr Team gerade braucht🔹 Impulse &amp\; Teamproze
 sse\, die Veränderung anstoßen – inspirierend\, machbar\, nachhaltig
 🔹 Stärkung von Teamkultur &amp\; Selbstwirksamkeit – mit einem offen
 en Blick auf das\, was wirklich zählt\n💡 Wählen Sie die Themen\, die 
 zu Ihnen passen – oder lassen Sie uns gemeinsam ein passgenaues Konzept 
 entwickeln.\n\n\n\n\n🔍 Themen\, die wirken – und weiterbringen:\n🧠
  Belastungsmanagement &amp\; Resilienz:„Wie schaffen wir das alles?“ 
 – Finden Sie Wege\, um Stress zu reduzieren\, Ressourcen zu aktivieren u
 nd gemeinsam handlungsfähiger zu sein.\n💬 Kommunikation &amp\; Konflik
 tlösung:„Wie erreichen wir eine bessere Verständigung?“ – Klare Ko
 mmunikation ist der Schlüssel zu guter Zusammenarbeit und gelingenden Bez
 iehungen.\n🤝 Teamentwicklung &amp\; Vertrauen:„Wie werden wir wirklic
 h ein Team?“ – Weg vom Nebeneinander\, hin zu echter Kooperation\, Ver
 trauen und abgestimmten Rollen.\n🧘‍♀️ Emotionale Stabilität &amp
 \; Umgang mit herausfordernden Situationen:„Wie bleiben wir ruhig inmitt
 en von Druck?“ – Erleben Sie\, wie Teams stabil und professionell blei
 ben – auch in schwierigen Kontexten.\n🎓 Pädagogische Fragestellungen
  &amp\; neue Ansätze:Ob Elternarbeit\, besondere Bedarfe oder der Blick a
 uf den eigenen Ansatz – wir arbeiten an dem\, was Ihren pädagogischen A
 lltag stärkt.\n\n\n\n\n📌 Ihr Mehrwert:\nEin Teamtag ist mehr als ein n
 ettes Zusammenkommen – er kann der Beginn echter Entwicklung sein.Mit ei
 nem individuell gestalteten Workshop schaffen wir Raum für Reflexion\, En
 twicklung und neue Energie im Team.\n📍 Ort: In Ihrer Einrichtung oder i
 n Oberursel📅 Dauer &amp\; Termin: Nach Absprache👥 Teilnehmer:innen: 
 Kleine bis mittlere Teams (je nach Bedarf)\n🔹 Individuell angepasst –
  auf Ihre Ziele\, Ihre Themen\, Ihre Sprache.🔹 Optional mit Follow-up /
  Supervision zur nachhaltigen Umsetzung.\nKontakt
ATTACH;FMTTYPE=image/jpeg:https://constanze-mann.de/wp-content/uploads/202
 5/01/Gray-and-Brown-Modern-Inspirational-Quotes-Instagram-Post.png
END:VEVENT
BEGIN:VTIMEZONE
TZID:Europe/Berlin
X-LIC-LOCATION:Europe/Berlin
BEGIN:STANDARD
DTSTART:20241027T020000
TZOFFSETFROM:+0200
TZOFFSETTO:+0100
TZNAME:CET
END:STANDARD
BEGIN:DAYLIGHT
DTSTART:20250330T030000
TZOFFSETFROM:+0100
TZOFFSETTO:+0200
TZNAME:CEST
END:DAYLIGHT
BEGIN:STANDARD
DTSTART:20251026T020000
TZOFFSETFROM:+0200
TZOFFSETTO:+0100
TZNAME:CET
END:STANDARD
BEGIN:DAYLIGHT
DTSTART:20260329T030000
TZOFFSETFROM:+0100
TZOFFSETTO:+0200
TZNAME:CEST
END:DAYLIGHT
BEGIN:STANDARD
DTSTART:20261025T020000
TZOFFSETFROM:+0200
TZOFFSETTO:+0100
TZNAME:CET
END:STANDARD
END:VTIMEZONE
END:VCALENDAR